Package: R3CPET Version: 1.36.0 Command: /home/biocbuild/bbs-3.19-bioc/R/bin/R CMD build --keep-empty-dirs --no-resave-data R3CPET StartedAt: 2024-10-16 20:17:07 -0400 (Wed, 16 Oct 2024) EndedAt: 2024-10-16 20:18:48 -0400 (Wed, 16 Oct 2024) EllapsedTime: 101.2 seconds RetCode: 0 Status: OK PackageFile: R3CPET_1.36.0.tar.gz PackageFileSize: 5.081 MiB