Package: QuaternaryProd Version: 1.38.0 Command: /Library/Frameworks/R.framework/Resources/bin/R CMD check --install=check:QuaternaryProd.install-out.txt --library=/Library/Frameworks/R.framework/Resources/library --no-vignettes --timings QuaternaryProd_1.38.0.tar.gz StartedAt: 2024-10-17 11:24:42 -0400 (Thu, 17 Oct 2024) EndedAt: 2024-10-17 11:26:52 -0400 (Thu, 17 Oct 2024) EllapsedTime: 129.6 seconds RetCode: 0 Status: OK CheckDir: QuaternaryProd.Rcheck Warnings: 0