Package: QuaternaryProd Version: 1.38.0 Command: rm -rf QuaternaryProd.buildbin-libdir && mkdir QuaternaryProd.buildbin-libdir && /Users/biocbuild/BBS/utils/build-universal.sh QuaternaryProd_1.38.0.tar.gz /Library/Frameworks/R.framework/Resources/bin/R QuaternaryProd.buildbin-libdir StartedAt: 2024-10-17 16:54:58 -0400 (Thu, 17 Oct 2024) EndedAt: 2024-10-17 16:55:43 -0400 (Thu, 17 Oct 2024) EllapsedTime: 45.0 seconds RetCode: 0 Status: OK PackageFile: QuaternaryProd_1.38.0.tgz PackageFileSize: 10.89 MiB