Package: QuaternaryProd Version: 1.38.0 Command: rm -rf QuaternaryProd.buildbin-libdir && mkdir QuaternaryProd.buildbin-libdir && /Users/biocbuild/BBS/utils/build-universal.sh QuaternaryProd_1.38.0.tar.gz /Library/Frameworks/R.framework/Resources/bin/R QuaternaryProd.buildbin-libdir StartedAt: 2024-06-10 00:33:45 -0400 (Mon, 10 Jun 2024) EndedAt: 2024-06-10 00:34:13 -0400 (Mon, 10 Jun 2024) EllapsedTime: 28.0 seconds RetCode: 0 Status: OK PackageFile: QuaternaryProd_1.38.0.tgz PackageFileSize: 10.89 MiB