Package: QuaternaryProd Version: 1.38.0 Command: /Library/Frameworks/R.framework/Resources/bin/R CMD check --install=check:QuaternaryProd.install-out.txt --library=/Library/Frameworks/R.framework/Resources/library --no-vignettes --timings QuaternaryProd_1.38.0.tar.gz StartedAt: 2024-06-11 02:15:14 -0400 (Tue, 11 Jun 2024) EndedAt: 2024-06-11 02:16:56 -0400 (Tue, 11 Jun 2024) EllapsedTime: 102.7 seconds RetCode: 0 Status: OK CheckDir: QuaternaryProd.Rcheck Warnings: 0