Package: QuaternaryProd Version: 1.38.0 Command: /Library/Frameworks/R.framework/Resources/bin/R CMD check --install=check:QuaternaryProd.install-out.txt --library=/Library/Frameworks/R.framework/Resources/library --no-vignettes --timings QuaternaryProd_1.38.0.tar.gz StartedAt: 2024-10-18 08:35:13 -0400 (Fri, 18 Oct 2024) EndedAt: 2024-10-18 08:36:22 -0400 (Fri, 18 Oct 2024) EllapsedTime: 69.9 seconds RetCode: 0 Status: OK CheckDir: QuaternaryProd.Rcheck Warnings: 0