Package: QuaternaryProd Version: 1.38.0 Command: rm -rf QuaternaryProd.buildbin-libdir && mkdir QuaternaryProd.buildbin-libdir && /Users/biocbuild/BBS/utils/build-universal.sh QuaternaryProd_1.38.0.tar.gz /Library/Frameworks/R.framework/Resources/bin/R QuaternaryProd.buildbin-libdir StartedAt: 2024-10-18 20:06:45 -0400 (Fri, 18 Oct 2024) EndedAt: 2024-10-18 20:07:10 -0400 (Fri, 18 Oct 2024) EllapsedTime: 25.2 seconds RetCode: 0 Status: OK PackageFile: QuaternaryProd_1.38.0.tgz PackageFileSize: 10.9 MiB