Package: QuasR Version: 1.44.0 Command: /home/biocbuild/bbs-3.19-bioc/R/bin/R CMD build --keep-empty-dirs --no-resave-data QuasR StartedAt: 2024-10-16 20:16:53 -0400 (Wed, 16 Oct 2024) EndedAt: 2024-10-16 20:21:11 -0400 (Wed, 16 Oct 2024) EllapsedTime: 258.5 seconds RetCode: 0 Status: OK PackageFile: QuasR_1.44.0.tar.gz PackageFileSize: 2.236 MiB