Package: QuasR Version: 1.44.0 Command: /Library/Frameworks/R.framework/Resources/bin/R CMD build --keep-empty-dirs --no-resave-data QuasR StartedAt: 2024-06-10 02:58:27 -0400 (Mon, 10 Jun 2024) EndedAt: 2024-06-10 03:06:15 -0400 (Mon, 10 Jun 2024) EllapsedTime: 467.9 seconds RetCode: 0 Status: OK PackageFile: QuasR_1.44.0.tar.gz PackageFileSize: 2.406 MiB