Package: QuartPAC Version: 1.36.0 Command: chmod a+r QuartPAC -R && F:\biocbuild\bbs-3.19-bioc\R\bin\R.exe CMD build --keep-empty-dirs --no-resave-data QuartPAC StartedAt: 2024-06-26 21:11:04 -0400 (Wed, 26 Jun 2024) EndedAt: 2024-06-26 21:12:07 -0400 (Wed, 26 Jun 2024) EllapsedTime: 62.6 seconds RetCode: 0 Status: OK PackageFile: QuartPAC_1.36.0.tar.gz PackageFileSize: 751.4 KiB