Package: QuartPAC Version: 1.36.0 Command: rm -rf QuartPAC.buildbin-libdir && mkdir QuartPAC.buildbin-libdir && F:\biocbuild\bbs-3.19-bioc\R\bin\R.exe CMD INSTALL --build --library=QuartPAC.buildbin-libdir QuartPAC_1.36.0.tar.gz StartedAt: 2024-06-27 08:43:42 -0400 (Thu, 27 Jun 2024) EndedAt: 2024-06-27 08:44:05 -0400 (Thu, 27 Jun 2024) EllapsedTime: 22.9 seconds RetCode: 0 Status: OK PackageFile: QuartPAC_1.36.0.zip PackageFileSize: 491.5 KiB