Package: QuartPAC Version: 1.36.0 Command: /home/biocbuild/bbs-3.19-bioc/R/bin/R CMD build --keep-empty-dirs --no-resave-data QuartPAC StartedAt: 2024-10-16 20:16:51 -0400 (Wed, 16 Oct 2024) EndedAt: 2024-10-16 20:17:48 -0400 (Wed, 16 Oct 2024) EllapsedTime: 57.1 seconds RetCode: 0 Status: OK PackageFile: QuartPAC_1.36.0.tar.gz PackageFileSize: 748.2 KiB