Package: QuartPAC Version: 1.36.0 Command: rm -rf QuartPAC.buildbin-libdir && mkdir QuartPAC.buildbin-libdir && /Users/biocbuild/BBS/utils/build-universal.sh QuartPAC_1.36.0.tar.gz /Library/Frameworks/R.framework/Resources/bin/R QuartPAC.buildbin-libdir StartedAt: 2024-10-17 16:54:39 -0400 (Thu, 17 Oct 2024) EndedAt: 2024-10-17 16:55:20 -0400 (Thu, 17 Oct 2024) EllapsedTime: 41.6 seconds RetCode: 0 Status: OK PackageFile: QuartPAC_1.36.0.tgz PackageFileSize: 645.7 KiB