Package: Qtlizer Version: 1.18.0 Command: E:\biocbuild\bbs-3.19-bioc\R\bin\R.exe CMD check --no-multiarch --install=check:Qtlizer.install-out.txt --library=E:\biocbuild\bbs-3.19-bioc\R\library --no-vignettes --timings Qtlizer_1.18.0.tar.gz StartedAt: 2024-09-26 04:29:00 -0400 (Thu, 26 Sep 2024) EndedAt: 2024-09-26 04:29:32 -0400 (Thu, 26 Sep 2024) EllapsedTime: 31.4 seconds RetCode: 0 Status: OK CheckDir: Qtlizer.Rcheck Warnings: 0