Package: Qtlizer Version: 1.18.0 Command: chmod a+r Qtlizer -R && F:\biocbuild\bbs-3.19-bioc\R\bin\R.exe CMD build --keep-empty-dirs --no-resave-data Qtlizer StartedAt: 2024-06-26 21:10:43 -0400 (Wed, 26 Jun 2024) EndedAt: 2024-06-26 21:10:55 -0400 (Wed, 26 Jun 2024) EllapsedTime: 11.4 seconds RetCode: 0 Status: OK PackageFile: Qtlizer_1.18.0.tar.gz PackageFileSize: 223.2 KiB