Package: Qtlizer Version: 1.18.0 Command: /Library/Frameworks/R.framework/Resources/bin/R CMD build --keep-empty-dirs --no-resave-data Qtlizer StartedAt: 2024-06-09 17:49:10 -0400 (Sun, 09 Jun 2024) EndedAt: 2024-06-09 17:49:24 -0400 (Sun, 09 Jun 2024) EllapsedTime: 13.4 seconds RetCode: 0 Status: OK PackageFile: Qtlizer_1.18.0.tar.gz PackageFileSize: 223.1 KiB