Package: Qtlizer Version: 1.18.0 Command: rm -rf Qtlizer.buildbin-libdir && mkdir Qtlizer.buildbin-libdir && /Users/biocbuild/BBS/utils/build-universal.sh Qtlizer_1.18.0.tar.gz /Library/Frameworks/R.framework/Resources/bin/R Qtlizer.buildbin-libdir StartedAt: 2024-06-10 00:33:40 -0400 (Mon, 10 Jun 2024) EndedAt: 2024-06-10 00:33:44 -0400 (Mon, 10 Jun 2024) EllapsedTime: 3.4 seconds RetCode: 0 Status: OK PackageFile: Qtlizer_1.18.0.tgz PackageFileSize: 235.7 KiB