Package: Qtlizer Version: 1.18.0 Command: /Library/Frameworks/R.framework/Resources/bin/R CMD INSTALL Qtlizer StartedAt: 2024-10-16 19:00:41 -0400 (Wed, 16 Oct 2024) EndedAt: 2024-10-16 19:00:44 -0400 (Wed, 16 Oct 2024) EllapsedTime: 2.3 seconds RetCode: 0 Status: OK