Package: Qtlizer Version: 1.18.0 Command: /Library/Frameworks/R.framework/Resources/bin/R CMD build --keep-empty-dirs --no-resave-data Qtlizer StartedAt: 2024-10-17 06:56:47 -0400 (Thu, 17 Oct 2024) EndedAt: 2024-10-17 06:56:59 -0400 (Thu, 17 Oct 2024) EllapsedTime: 11.5 seconds RetCode: 1 Status: ERROR PackageFile: None PackageFileSize: NA