Package: Qtlizer Version: 1.18.0 Maintainer: Matthias Munz MaintainerEmail: matthias.munz at gmx.de git_url: https://git.bioconductor.org/packages/Qtlizer git_branch: RELEASE_3_19 git_last_commit: 01347cb git_last_commit_date: 2024-04-30 11:16:59 -0400 (Tue, 30 Apr 2024)