Package: QUBIC Version: 1.32.0 Command: /Library/Frameworks/R.framework/Resources/bin/R CMD build --keep-empty-dirs --no-resave-data QUBIC StartedAt: 2024-10-16 22:20:37 -0400 (Wed, 16 Oct 2024) EndedAt: 2024-10-16 22:23:54 -0400 (Wed, 16 Oct 2024) EllapsedTime: 197.6 seconds RetCode: 0 Status: OK PackageFile: QUBIC_1.32.0.tar.gz PackageFileSize: 494.4 KiB