Package: QUBIC Version: 1.32.0 Command: /home/biocbuild/R/R-beta-2024-04-15_r86425/bin/R CMD check --install=check:QUBIC.install-out.txt --library=/home/biocbuild/R/R-beta-2024-04-15_r86425/site-library --no-vignettes --timings QUBIC_1.32.0.tar.gz StartedAt: 2024-05-09 10:55:49 -0000 (Thu, 09 May 2024) EndedAt: 2024-05-09 10:56:38 -0000 (Thu, 09 May 2024) EllapsedTime: 49.1 seconds RetCode: 0 Status: OK CheckDir: QUBIC.Rcheck Warnings: 0