Package: QUBIC Version: 1.32.0 Command: rm -rf QUBIC.buildbin-libdir && mkdir QUBIC.buildbin-libdir && /Users/biocbuild/BBS/utils/build-universal.sh QUBIC_1.32.0.tar.gz /Library/Frameworks/R.framework/Resources/bin/R QUBIC.buildbin-libdir StartedAt: 2024-06-11 12:40:12 -0400 (Tue, 11 Jun 2024) EndedAt: 2024-06-11 12:41:08 -0400 (Tue, 11 Jun 2024) EllapsedTime: 55.8 seconds RetCode: 0 Status: OK PackageFile: QUBIC_1.32.0.tgz PackageFileSize: 614.3 KiB