Package: QUBIC Version: 1.32.0 Command: /Library/Frameworks/R.framework/Resources/bin/R CMD check --install=check:QUBIC.install-out.txt --library=/Library/Frameworks/R.framework/Resources/library --no-vignettes --timings QUBIC_1.32.0.tar.gz StartedAt: 2024-10-18 08:35:32 -0400 (Fri, 18 Oct 2024) EndedAt: 2024-10-18 08:36:25 -0400 (Fri, 18 Oct 2024) EllapsedTime: 53.0 seconds RetCode: 0 Status: OK CheckDir: QUBIC.Rcheck Warnings: 0