Package: QUBIC Version: 1.32.0 Command: /Library/Frameworks/R.framework/Resources/bin/R CMD build --keep-empty-dirs --no-resave-data QUBIC StartedAt: 2024-10-17 06:58:32 -0400 (Thu, 17 Oct 2024) EndedAt: 2024-10-17 07:00:50 -0400 (Thu, 17 Oct 2024) EllapsedTime: 137.7 seconds RetCode: 0 Status: OK PackageFile: QUBIC_1.32.0.tar.gz PackageFileSize: 494.1 KiB