Package: QUBIC Version: 1.32.0 Command: rm -rf QUBIC.buildbin-libdir && mkdir QUBIC.buildbin-libdir && /Users/biocbuild/BBS/utils/build-universal.sh QUBIC_1.32.0.tar.gz /Library/Frameworks/R.framework/Resources/bin/R QUBIC.buildbin-libdir StartedAt: 2024-10-18 20:06:48 -0400 (Fri, 18 Oct 2024) EndedAt: 2024-10-18 20:07:24 -0400 (Fri, 18 Oct 2024) EllapsedTime: 36.4 seconds RetCode: 0 Status: OK PackageFile: QUBIC_1.32.0.tgz PackageFileSize: 617.9 KiB