Package: QSutils Version: 1.22.0 Command: rm -rf QSutils.buildbin-libdir && mkdir QSutils.buildbin-libdir && F:\biocbuild\bbs-3.19-bioc\R\bin\R.exe CMD INSTALL --build --library=QSutils.buildbin-libdir QSutils_1.22.0.tar.gz StartedAt: 2024-06-27 08:43:28 -0400 (Thu, 27 Jun 2024) EndedAt: 2024-06-27 08:43:52 -0400 (Thu, 27 Jun 2024) EllapsedTime: 24.4 seconds RetCode: 0 Status: OK PackageFile: QSutils_1.22.0.zip PackageFileSize: 1.22 MiB