Package: QSutils Version: 1.22.0 Command: rm -rf QSutils.buildbin-libdir && mkdir QSutils.buildbin-libdir && /Users/biocbuild/BBS/utils/build-universal.sh QSutils_1.22.0.tar.gz /Library/Frameworks/R.framework/Resources/bin/R QSutils.buildbin-libdir StartedAt: 2024-10-18 20:05:48 -0400 (Fri, 18 Oct 2024) EndedAt: 2024-10-18 20:06:06 -0400 (Fri, 18 Oct 2024) EllapsedTime: 18.2 seconds RetCode: 0 Status: OK PackageFile: QSutils_1.22.0.tgz PackageFileSize: 1.431 MiB