Package: QFeatures Version: 1.14.2 Command: /Library/Frameworks/R.framework/Resources/bin/R CMD INSTALL QFeatures StartedAt: 2024-10-16 16:01:59 -0400 (Wed, 16 Oct 2024) EndedAt: 2024-10-16 16:03:09 -0400 (Wed, 16 Oct 2024) EllapsedTime: 70.5 seconds RetCode: 0 Status: OK