Package: QFeatures Version: 1.14.2 Command: /Library/Frameworks/R.framework/Resources/bin/R CMD build --keep-empty-dirs --no-resave-data QFeatures StartedAt: 2024-10-16 22:18:09 -0400 (Wed, 16 Oct 2024) EndedAt: 2024-10-16 22:21:47 -0400 (Wed, 16 Oct 2024) EllapsedTime: 218.4 seconds RetCode: 0 Status: OK PackageFile: QFeatures_1.14.2.tar.gz PackageFileSize: 2.848 MiB