Package: QFeatures Version: 1.14.2 Command: rm -rf QFeatures.buildbin-libdir && mkdir QFeatures.buildbin-libdir && /Users/biocbuild/BBS/utils/build-universal.sh QFeatures_1.14.2.tar.gz /Library/Frameworks/R.framework/Resources/bin/R QFeatures.buildbin-libdir StartedAt: 2024-10-17 16:53:55 -0400 (Thu, 17 Oct 2024) EndedAt: 2024-10-17 16:55:14 -0400 (Thu, 17 Oct 2024) EllapsedTime: 78.7 seconds RetCode: 0 Status: OK PackageFile: QFeatures_1.14.2.tgz PackageFileSize: 3.348 MiB