Package: QFeatures Version: 1.14.2 Command: /Library/Frameworks/R.framework/Resources/bin/R CMD INSTALL QFeatures StartedAt: 2024-10-16 17:26:50 -0400 (Wed, 16 Oct 2024) EndedAt: 2024-10-16 17:27:26 -0400 (Wed, 16 Oct 2024) EllapsedTime: 35.4 seconds RetCode: 0 Status: OK