Package: QFeatures Version: 1.14.2 Command: rm -rf QFeatures.buildbin-libdir && mkdir QFeatures.buildbin-libdir && /Users/biocbuild/BBS/utils/build-universal.sh QFeatures_1.14.2.tar.gz /Library/Frameworks/R.framework/Resources/bin/R QFeatures.buildbin-libdir StartedAt: 2024-10-18 20:05:03 -0400 (Fri, 18 Oct 2024) EndedAt: 2024-10-18 20:05:48 -0400 (Fri, 18 Oct 2024) EllapsedTime: 45.4 seconds RetCode: 0 Status: OK PackageFile: QFeatures_1.14.2.tgz PackageFileSize: 3.347 MiB