Package: QDNAseq Version: 1.40.0 Command: chmod a+r QDNAseq -R && E:\biocbuild\bbs-3.19-bioc\R\bin\R.exe CMD build --keep-empty-dirs --no-resave-data QDNAseq StartedAt: 2024-10-16 21:16:24 -0400 (Wed, 16 Oct 2024) EndedAt: 2024-10-16 21:23:09 -0400 (Wed, 16 Oct 2024) EllapsedTime: 405.3 seconds RetCode: 0 Status: OK PackageFile: QDNAseq_1.40.0.tar.gz PackageFileSize: 849.1 KiB