Package: QDNAseq Version: 1.40.0 Command: chmod a+r QDNAseq -R && F:\biocbuild\bbs-3.19-bioc\R\bin\R.exe CMD build --keep-empty-dirs --no-resave-data QDNAseq StartedAt: 2024-06-26 21:09:08 -0400 (Wed, 26 Jun 2024) EndedAt: 2024-06-26 21:15:40 -0400 (Wed, 26 Jun 2024) EllapsedTime: 391.7 seconds RetCode: 0 Status: OK PackageFile: QDNAseq_1.40.0.tar.gz PackageFileSize: 848.6 KiB