Package: QDNAseq Version: 1.40.0 Command: rm -rf QDNAseq.buildbin-libdir && mkdir QDNAseq.buildbin-libdir && F:\biocbuild\bbs-3.19-bioc\R\bin\R.exe CMD INSTALL --build --library=QDNAseq.buildbin-libdir QDNAseq_1.40.0.tar.gz StartedAt: 2024-06-27 08:43:08 -0400 (Thu, 27 Jun 2024) EndedAt: 2024-06-27 08:43:42 -0400 (Thu, 27 Jun 2024) EllapsedTime: 34.0 seconds RetCode: 0 Status: OK PackageFile: QDNAseq_1.40.0.zip PackageFileSize: 1.393 MiB