Package: QDNAseq Version: 1.40.0 Command: /home/biocbuild/bbs-3.19-bioc/R/bin/R CMD build --keep-empty-dirs --no-resave-data QDNAseq StartedAt: 2024-10-16 20:15:30 -0400 (Wed, 16 Oct 2024) EndedAt: 2024-10-16 20:16:15 -0400 (Wed, 16 Oct 2024) EllapsedTime: 45.1 seconds RetCode: 0 Status: OK PackageFile: QDNAseq_1.40.0.tar.gz PackageFileSize: 1.018 MiB