Package: QDNAseq Version: 1.40.0 Command: /Library/Frameworks/R.framework/Resources/bin/R CMD check --install=check:QDNAseq.install-out.txt --library=/Library/Frameworks/R.framework/Resources/library --no-vignettes --timings QDNAseq_1.40.0.tar.gz StartedAt: 2024-10-17 11:17:02 -0400 (Thu, 17 Oct 2024) EndedAt: 2024-10-17 11:29:56 -0400 (Thu, 17 Oct 2024) EllapsedTime: 773.7 seconds RetCode: 0 Status: OK CheckDir: QDNAseq.Rcheck Warnings: 0