Package: QDNAseq Version: 1.40.0 Command: /Library/Frameworks/R.framework/Resources/bin/R CMD build --keep-empty-dirs --no-resave-data QDNAseq StartedAt: 2024-10-16 22:17:59 -0400 (Wed, 16 Oct 2024) EndedAt: 2024-10-16 22:20:03 -0400 (Wed, 16 Oct 2024) EllapsedTime: 123.8 seconds RetCode: 0 Status: OK PackageFile: QDNAseq_1.40.0.tar.gz PackageFileSize: 993.1 KiB