Package: QDNAseq Version: 1.40.0 Command: /Library/Frameworks/R.framework/Resources/bin/R CMD INSTALL QDNAseq StartedAt: 2024-10-16 16:57:42 -0400 (Wed, 16 Oct 2024) EndedAt: 2024-10-16 16:58:04 -0400 (Wed, 16 Oct 2024) EllapsedTime: 22.0 seconds RetCode: 0 Status: OK