Package: QDNAseq Version: 1.40.0 Command: /Library/Frameworks/R.framework/Resources/bin/R CMD build --keep-empty-dirs --no-resave-data QDNAseq StartedAt: 2024-10-17 06:53:25 -0400 (Thu, 17 Oct 2024) EndedAt: 2024-10-17 06:54:34 -0400 (Thu, 17 Oct 2024) EllapsedTime: 69.1 seconds RetCode: 0 Status: OK PackageFile: QDNAseq_1.40.0.tar.gz PackageFileSize: 993.1 KiB