Package: QDNAseq Version: 1.40.0 Command: rm -rf QDNAseq.buildbin-libdir && mkdir QDNAseq.buildbin-libdir && /Users/biocbuild/BBS/utils/build-universal.sh QDNAseq_1.40.0.tar.gz /Library/Frameworks/R.framework/Resources/bin/R QDNAseq.buildbin-libdir StartedAt: 2024-10-18 20:04:57 -0400 (Fri, 18 Oct 2024) EndedAt: 2024-10-18 20:05:24 -0400 (Fri, 18 Oct 2024) EllapsedTime: 27.1 seconds RetCode: 0 Status: OK PackageFile: QDNAseq_1.40.0.tgz PackageFileSize: 1.534 MiB