Package: Pviz Version: 1.38.0 Command: rm -rf Pviz.buildbin-libdir && mkdir Pviz.buildbin-libdir && E:\biocbuild\bbs-3.19-bioc\R\bin\R.exe CMD INSTALL --build --library=Pviz.buildbin-libdir Pviz_1.38.0.tar.gz StartedAt: 2024-10-17 08:23:45 -0400 (Thu, 17 Oct 2024) EndedAt: 2024-10-17 08:25:18 -0400 (Thu, 17 Oct 2024) EllapsedTime: 93.3 seconds RetCode: 0 Status: OK PackageFile: Pviz_1.38.0.zip PackageFileSize: 672.2 KiB