Package: Pviz Version: 1.38.0 Command: /Library/Frameworks/R.framework/Resources/bin/R CMD build --keep-empty-dirs --no-resave-data Pviz StartedAt: 2024-10-16 22:17:08 -0400 (Wed, 16 Oct 2024) EndedAt: 2024-10-16 22:21:36 -0400 (Wed, 16 Oct 2024) EllapsedTime: 268.4 seconds RetCode: 0 Status: OK PackageFile: Pviz_1.38.0.tar.gz PackageFileSize: 203.3 KiB