Package: Pviz Version: 1.38.0 Command: /Library/Frameworks/R.framework/Resources/bin/R CMD INSTALL Pviz StartedAt: 2024-10-16 17:31:59 -0400 (Wed, 16 Oct 2024) EndedAt: 2024-10-16 17:33:36 -0400 (Wed, 16 Oct 2024) EllapsedTime: 96.2 seconds RetCode: 0 Status: OK