Package: Pviz Version: 1.38.0 Command: /Library/Frameworks/R.framework/Resources/bin/R CMD build --keep-empty-dirs --no-resave-data Pviz StartedAt: 2024-10-17 06:51:29 -0400 (Thu, 17 Oct 2024) EndedAt: 2024-10-17 06:53:58 -0400 (Thu, 17 Oct 2024) EllapsedTime: 149.7 seconds RetCode: 0 Status: OK PackageFile: Pviz_1.38.0.tar.gz PackageFileSize: 203.3 KiB