Package: Pviz Version: 1.38.0 Command: rm -rf Pviz.buildbin-libdir && mkdir Pviz.buildbin-libdir && /Users/biocbuild/BBS/utils/build-universal.sh Pviz_1.38.0.tar.gz /Library/Frameworks/R.framework/Resources/bin/R Pviz.buildbin-libdir StartedAt: 2024-10-18 20:04:08 -0400 (Fri, 18 Oct 2024) EndedAt: 2024-10-18 20:06:09 -0400 (Fri, 18 Oct 2024) EllapsedTime: 120.5 seconds RetCode: 0 Status: OK PackageFile: Pviz_1.38.0.tgz PackageFileSize: 666.3 KiB