Package: Pviz Version: 1.38.0 Maintainer: Renan Sauteraud MaintainerEmail: rsautera at fhcrc.org git_url: https://git.bioconductor.org/packages/Pviz git_branch: RELEASE_3_19 git_last_commit: 66b3eba git_last_commit_date: 2024-04-30 10:37:23 -0400 (Tue, 30 Apr 2024)