Package: PureCN Version: 2.10.0 Maintainer: Markus Riester MaintainerEmail: markus.riester at novartis.com git_url: https://git.bioconductor.org/packages/PureCN git_branch: RELEASE_3_19 git_last_commit: 7048a48 git_last_commit_date: 2024-04-30 10:50:39 -0400 (Tue, 30 Apr 2024)