Package: ProteoMM Version: 1.22.0 Command: E:\biocbuild\bbs-3.19-bioc\R\bin\R.exe CMD INSTALL ProteoMM StartedAt: 2024-10-16 16:39:12 -0400 (Wed, 16 Oct 2024) EndedAt: 2024-10-16 16:39:24 -0400 (Wed, 16 Oct 2024) EllapsedTime: 12.5 seconds RetCode: 0 Status: OK